BEGIN:VCALENDAR
VERSION:2.0
METHOD:PUBLISH
CALSCALE:GREGORIAN
PRODID:-//Refresh Web Development//Helios Calendar//EN
X-FROM-URL:https://www.bayareascience.org/calendar/index.php?com=details&eID=33583
X-WR-RELCALID:BayAreaScience.org Putting Contemporary Climate Migration in Context: What Do We Know from Two Decades of Research? 20230406T153000
X-WR-TIMEZONE:America/New_York
X-WR-CALNAME:BayAreaScience.org
BEGIN:VEVENT
URL;VALUE=URI:https://www.bayareascience.org/calendar/index.php?com=detail&eID=33583
DTSTART:20230406T153000
DTEND:20230406T170000
SUMMARY:Putting Contemporary Climate Migration in Context: What Do We Know from Two Decades of Research?
DESCRIPTION:â€œClimate-related migration\,â€ â€œdisaster mobility\,â€ and â€œclimate refugeesâ€ have become salient topics in the last decade in both the political and scholarly realms....\n______________________________\nThis Event Downloaded From a Helios Calendar Powered Site
LOCATION:Moses Hall - UC Berkeley Room 223\, Berkeley\, CA  94720
CATEGORIES:BayAreaScience.org Events
PRIORITY:0
TRANSP:TRANSPARENT
END:VEVENT
END:VCALENDAR