BEGIN:VCALENDAR
VERSION:2.0
METHOD:PUBLISH
CALSCALE:GREGORIAN
PRODID:-//Refresh Web Development//Helios Calendar//EN
X-FROM-URL:https://www.bayareascience.org/calendar/index.php?com=details&eID=33586
X-WR-RELCALID:BayAreaScience.org  The Path to Understanding Dark Matter: Novel Observations of Low-Mass Galaxies 20230213T110000
X-WR-TIMEZONE:America/New_York
X-WR-CALNAME:BayAreaScience.org
BEGIN:VEVENT
URL;VALUE=URI:https://www.bayareascience.org/calendar/index.php?com=detail&eID=33586
DTSTART:20230213T110000
DTEND:20230213T120000
SUMMARY: The Path to Understanding Dark Matter: Novel Observations of Low-Mass Galaxies
DESCRIPTION:Being some of the most dark matter-dominated systems discovered to date\, low-mass galaxies offer crucial tests for our cosmological model and fill in the gaps in our understanding of the universe...\n______________________________\nThis Event Downloaded From a Helios Calendar Powered Site
LOCATION:Kavli Institute Astrophysics Colloquium - SLAC Fred Kavli Building (51) 3rd Fl Conference Room 2575 Sand Hill Rd\, Menlo Park\, CA  94305
CATEGORIES:BayAreaScience.org Events
PRIORITY:0
TRANSP:TRANSPARENT
END:VEVENT
END:VCALENDAR