BEGIN:VCALENDAR
VERSION:2.0
METHOD:PUBLISH
CALSCALE:GREGORIAN
PRODID:-//Refresh Web Development//Helios Calendar//EN
X-FROM-URL:https://www.bayareascience.org/calendar/index.php?com=details&eID=33591
X-WR-RELCALID:BayAreaScience.org   Designing and Evaluating Nature-Based Solutions  for Coastal Resilience 20230213T123000
X-WR-TIMEZONE:America/New_York
X-WR-CALNAME:BayAreaScience.org
BEGIN:VEVENT
URL;VALUE=URI:https://www.bayareascience.org/calendar/index.php?com=detail&eID=33591
DTSTART:20230213T123000
DTEND:20230213T133000
SUMMARY:  Designing and Evaluating Nature-Based Solutions  for Coastal Resilience
DESCRIPTION:Coastal environments in the United States range from natural sandy beaches and marsh grass fields to developed\, active ports and picturesque marinas. These diverse shorelines must contend with...\n______________________________\nThis Event Downloaded From a Helios Calendar Powered Site
LOCATION:Environment and Energy Building (Y2E2) - Stanford University Room 111\, Stanford\, CA  94305
CATEGORIES:BayAreaScience.org Events
PRIORITY:0
TRANSP:TRANSPARENT
END:VEVENT
END:VCALENDAR