BEGIN:VCALENDAR
VERSION:2.0
METHOD:PUBLISH
CALSCALE:GREGORIAN
PRODID:-//Refresh Web Development//Helios Calendar//EN
X-FROM-URL:https://www.bayareascience.org/calendar/index.php?com=details&eID=33592
X-WR-RELCALID:BayAreaScience.org COP27 Summary and the History of United Nations Negotiations 20230213T163000
X-WR-TIMEZONE:America/New_York
X-WR-CALNAME:BayAreaScience.org
BEGIN:VEVENT
URL;VALUE=URI:https://www.bayareascience.org/calendar/index.php?com=detail&eID=33592
DTSTART:20230213T163000
DTEND:20230213T172000
SUMMARY:COP27 Summary and the History of United Nations Negotiations
DESCRIPTION:What is the COP? What is the UNFCCC (1992)? What was the Kyoto Protocol (1997)? What is the Paris Agreement (2015)? Why do these nations meet every year? Why did it...\n______________________________\nThis Event Downloaded From a Helios Calendar Powered Site
LOCATION:Huang Engineering Center - Stanford University NVIDIA Auditorium\, Stanford\, CA  94305
CATEGORIES:BayAreaScience.org Events
PRIORITY:0
TRANSP:TRANSPARENT
END:VEVENT
END:VCALENDAR