BEGIN:VCALENDAR
VERSION:2.0
METHOD:PUBLISH
CALSCALE:GREGORIAN
PRODID:-//Refresh Web Development//Helios Calendar//EN
X-FROM-URL:https://www.bayareascience.org/calendar/index.php?com=details&eID=33596
X-WR-RELCALID:BayAreaScience.org Plastics in the deep sea - the ocean floor reservoir 20230405T110000
X-WR-TIMEZONE:America/New_York
X-WR-CALNAME:BayAreaScience.org
BEGIN:VEVENT
URL;VALUE=URI:https://www.bayareascience.org/calendar/index.php?com=detail&eID=33596
DTSTART:20230405T110000
DTEND:20230405T110000
SUMMARY:Plastics in the deep sea - the ocean floor reservoir
DESCRIPTION:The ocean floor is suspected...\n______________________________\nThis Event Downloaded From a Helios Calendar Powered Site
LOCATION:Monterey Bay Aquarium Research Institute - 7700 Sandholdt Rd. \, Moss Landing\, CA US 95039
CATEGORIES:BayAreaScience.org Events
PRIORITY:0
TRANSP:TRANSPARENT
END:VEVENT
END:VCALENDAR