BEGIN:VCALENDAR
VERSION:2.0
METHOD:PUBLISH
CALSCALE:GREGORIAN
PRODID:-//Refresh Web Development//Helios Calendar//EN
X-FROM-URL:https://www.bayareascience.org/calendar/index.php?com=details&eID=33598
X-WR-RELCALID:BayAreaScience.org NightSchool: Number 2 - Livestream 20230316T190000
X-WR-TIMEZONE:America/New_York
X-WR-CALNAME:BayAreaScience.org
BEGIN:VEVENT
URL;VALUE=URI:https://www.bayareascience.org/calendar/index.php?com=detail&eID=33598
DTSTART:20230316T190000
DTEND:20230316T190000
SUMMARY:NightSchool: Number 2 - Livestream
DESCRIPTION:This NightSchool\, our number one priority is something everyone does: number two. From conservation clues in scat to fecal breeding grounds\, weâ€™re talking all about poop.Ages 21+See...\n______________________________\nThis Event Downloaded From a Helios Calendar Powered Site
LOCATION:California Academy of Sciences -  \, \, CA  
CATEGORIES:BayAreaScience.org Events
PRIORITY:0
TRANSP:TRANSPARENT
END:VEVENT
END:VCALENDAR