BEGIN:VCALENDAR
VERSION:2.0
METHOD:PUBLISH
CALSCALE:GREGORIAN
PRODID:-//Refresh Web Development//Helios Calendar//EN
X-FROM-URL:https://www.bayareascience.org/calendar/index.php?com=details&eID=33600
X-WR-RELCALID:BayAreaScience.org Direct search for the neutrino mass scale with the KATRIN experiment 20230411T153000
X-WR-TIMEZONE:America/New_York
X-WR-CALNAME:BayAreaScience.org
BEGIN:VEVENT
URL;VALUE=URI:https://www.bayareascience.org/calendar/index.php?com=detail&eID=33600
DTSTART:20230411T153000
DTEND:20230411T163000
SUMMARY:Direct search for the neutrino mass scale with the KATRIN experiment
DESCRIPTION:Since the discovery of neutrino oscillation\, we know that neutrinos have non-zero masses\, but we do not know the absolute neutrino mass scale\, which is as important for cosmology as for particle...\n______________________________\nThis Event Downloaded From a Helios Calendar Powered Site
LOCATION:Hewlett Teaching Center - 370 Jane Stanford Way\, Room 200 Stanford University\, Stanford\, CA  94305
CATEGORIES:BayAreaScience.org Events
PRIORITY:0
TRANSP:TRANSPARENT
END:VEVENT
END:VCALENDAR