BEGIN:VCALENDAR
VERSION:2.0
METHOD:PUBLISH
CALSCALE:GREGORIAN
PRODID:-//Refresh Web Development//Helios Calendar//EN
X-FROM-URL:https://www.bayareascience.org/calendar/index.php?com=details&eID=33601
X-WR-RELCALID:BayAreaScience.org Vistas and Cross-roads in Electric Energy Systems - a Personal Journey 20230213T104000
X-WR-TIMEZONE:America/New_York
X-WR-CALNAME:BayAreaScience.org
BEGIN:VEVENT
URL;VALUE=URI:https://www.bayareascience.org/calendar/index.php?com=detail&eID=33601
DTSTART:20230213T104000
DTEND:20230213T114000
SUMMARY:Vistas and Cross-roads in Electric Energy Systems - a Personal Journey
DESCRIPTION:\n______________________________\nThis Event Downloaded From a Helios Calendar Powered Site
LOCATION:Engineering 2\, Room 192 - UC Santa Cruz 1156 High St\, Santa Cruz\, CA  95064
CATEGORIES:BayAreaScience.org Events
PRIORITY:0
TRANSP:TRANSPARENT
END:VEVENT
END:VCALENDAR