BEGIN:VCALENDAR
VERSION:2.0
METHOD:PUBLISH
CALSCALE:GREGORIAN
PRODID:-//Refresh Web Development//Helios Calendar//EN
X-FROM-URL:https://www.bayareascience.org/calendar/index.php?com=details&eID=33602
X-WR-RELCALID:BayAreaScience.org Designing State Estimators for Safety-Critical Aerospace Positioning, Navigation and Timing Systems 20230216T140000
X-WR-TIMEZONE:America/New_York
X-WR-CALNAME:BayAreaScience.org
BEGIN:VEVENT
URL;VALUE=URI:https://www.bayareascience.org/calendar/index.php?com=detail&eID=33602
DTSTART:20230216T140000
DTEND:20230216T150000
SUMMARY:Designing State Estimators for Safety-Critical Aerospace Positioning\, Navigation and Timing Systems
DESCRIPTION:\n______________________________\nThis Event Downloaded From a Helios Calendar Powered Site
LOCATION:Engineering 2\, Room 506 - UC Santa Cruz 1156 High St\, Santa Cruz\, CA  95064
CATEGORIES:BayAreaScience.org Events
PRIORITY:0
TRANSP:TRANSPARENT
END:VEVENT
END:VCALENDAR