BEGIN:VCALENDAR
VERSION:2.0
METHOD:PUBLISH
CALSCALE:GREGORIAN
PRODID:-//Refresh Web Development//Helios Calendar//EN
X-FROM-URL:https://www.bayareascience.org/calendar/index.php?com=details&eID=33605
X-WR-RELCALID:BayAreaScience.org  Comets: what are they, why do we care, and how do we visit them? 20230217T193000
X-WR-TIMEZONE:America/New_York
X-WR-CALNAME:BayAreaScience.org
BEGIN:VEVENT
URL;VALUE=URI:https://www.bayareascience.org/calendar/index.php?com=detail&eID=33605
DTSTART:20230217T193000
DTEND:20230217T193000
SUMMARY: Comets: what are they\, why do we care\, and how do we visit them?
DESCRIPTION:Comets are well-preserved leftovers from the formation of the solar system and represent windows into the physical conditions and chemical composition of the regions where they formed. To investigate...\n______________________________\nThis Event Downloaded From a Helios Calendar Powered Site
LOCATION:Tri-Valley Stargazers - 1893 N. Vasco Rd Unitarian Universalist Church\, Livermore\, CA  94551
CATEGORIES:BayAreaScience.org Events
PRIORITY:0
TRANSP:TRANSPARENT
END:VEVENT
END:VCALENDAR