BEGIN:VCALENDAR
VERSION:2.0
METHOD:PUBLISH
CALSCALE:GREGORIAN
PRODID:-//Refresh Web Development//Helios Calendar//EN
X-FROM-URL:https://www.bayareascience.org/calendar/index.php?com=details&eID=33607
X-WR-RELCALID:BayAreaScience.org  SPHEREx: An All-Sky Spectral Survey 20230214T123000
X-WR-TIMEZONE:America/New_York
X-WR-CALNAME:BayAreaScience.org
BEGIN:VEVENT
URL;VALUE=URI:https://www.bayareascience.org/calendar/index.php?com=detail&eID=33607
DTSTART:20230214T123000
DTEND:20230214T133000
SUMMARY: SPHEREx: An All-Sky Spectral Survey
DESCRIPTION:I will present SPHEREx\, a NASA mission to map the entire sky with near-infrared spectroscopy. With a targeted launch date in early 2025\, SPHEREx has broad scientific reach including 1) cosmic inflation...\n______________________________\nThis Event Downloaded From a Helios Calendar Powered Site
LOCATION:Stanford Linear Accelerator (SLAC) Building 48 - 2575 Sand Hill Road Madrone Conference Room (224)\, Menlo Park\, CA  94025
CATEGORIES:BayAreaScience.org Events
PRIORITY:0
TRANSP:TRANSPARENT
END:VEVENT
END:VCALENDAR