BEGIN:VCALENDAR
VERSION:2.0
METHOD:PUBLISH
CALSCALE:GREGORIAN
PRODID:-//Refresh Web Development//Helios Calendar//EN
X-FROM-URL:https://www.bayareascience.org/calendar/index.php?com=details&eID=33614
X-WR-RELCALID:BayAreaScience.org  Guided nature walk at Bouverie Preserve 20230225T113000
X-WR-TIMEZONE:America/New_York
X-WR-CALNAME:BayAreaScience.org
BEGIN:VEVENT
URL;VALUE=URI:https://www.bayareascience.org/calendar/index.php?com=detail&eID=33614
DTSTART:20230225T113000
DTEND:20230225T130000
SUMMARY: Guided nature walk at Bouverie Preserve
DESCRIPTION:Experience the beauty and rich natural history ofÂ Bouverie PreserveÂ by signing up for a Guided Nature WalkÂ Participants are paired with a trained volunteer to explore the mixed...\n______________________________\nThis Event Downloaded From a Helios Calendar Powered Site
LOCATION:Bouverie Preserve - 13935 California 12 \, Glen Ellen\, CA  95442
CATEGORIES:BayAreaScience.org Events
PRIORITY:0
TRANSP:TRANSPARENT
END:VEVENT
END:VCALENDAR