BEGIN:VCALENDAR
VERSION:2.0
METHOD:PUBLISH
CALSCALE:GREGORIAN
PRODID:-//Refresh Web Development//Helios Calendar//EN
X-FROM-URL:https://www.bayareascience.org/calendar/index.php?com=details&eID=33617
X-WR-RELCALID:BayAreaScience.org Connectivity Standards Alliance & Matter Introduction 20230215T170000
X-WR-TIMEZONE:America/New_York
X-WR-CALNAME:BayAreaScience.org
BEGIN:VEVENT
URL;VALUE=URI:https://www.bayareascience.org/calendar/index.php?com=detail&eID=33617
DTSTART:20230215T170000
DTEND:20230215T180000
SUMMARY:Connectivity Standards Alliance & Matter Introduction
DESCRIPTION:On October 4\, 2022\, the Alliance releasedÂ Matter 1.0\, a global\, open-source standard that removes barriers to IoT device interoperability & sustainability by enabling smart...\n______________________________\nThis Event Downloaded From a Helios Calendar Powered Site
LOCATION:IEEE San Francisco Bay Area Consumer Technology -  \, \, CA  
CATEGORIES:BayAreaScience.org Events
PRIORITY:0
TRANSP:TRANSPARENT
END:VEVENT
END:VCALENDAR