BEGIN:VCALENDAR
VERSION:2.0
METHOD:PUBLISH
CALSCALE:GREGORIAN
PRODID:-//Refresh Web Development//Helios Calendar//EN
X-FROM-URL:https://www.bayareascience.org/calendar/index.php?com=details&eID=33622
X-WR-RELCALID:BayAreaScience.org Biometrics Regulation: Global State-of-Play Symposium (Day 1) - Livestream 20230222T170000
X-WR-TIMEZONE:America/New_York
X-WR-CALNAME:BayAreaScience.org
BEGIN:VEVENT
URL;VALUE=URI:https://www.bayareascience.org/calendar/index.php?com=detail&eID=33622
DTSTART:20230222T170000
DTEND:20230222T190000
SUMMARY:Biometrics Regulation: Global State-of-Play Symposium (Day 1) - Livestream
DESCRIPTION:As part of BCLTâ€™s newly launched project on biometrics\, we will be hosting a virtual symposium on February 22 and 23\, 2023 titled â€˜Biometrics Regulation: Global State-of-Playâ€™.Â ...\n______________________________\nThis Event Downloaded From a Helios Calendar Powered Site
LOCATION:Center for Long-Term Cybersecurity -  \, \, CA  
CATEGORIES:BayAreaScience.org Events
PRIORITY:0
TRANSP:TRANSPARENT
END:VEVENT
END:VCALENDAR