BEGIN:VCALENDAR
VERSION:2.0
METHOD:PUBLISH
CALSCALE:GREGORIAN
PRODID:-//Refresh Web Development//Helios Calendar//EN
X-FROM-URL:https://www.bayareascience.org/calendar/index.php?com=details&eID=33631
X-WR-RELCALID:BayAreaScience.org Sonoma County Mycological Association: Scholarship Winners Presentations - Livestream 20230216T180000
X-WR-TIMEZONE:America/New_York
X-WR-CALNAME:BayAreaScience.org
BEGIN:VEVENT
URL;VALUE=URI:https://www.bayareascience.org/calendar/index.php?com=detail&eID=33631
DTSTART:20230216T180000
DTEND:20230216T180000
SUMMARY:Sonoma County Mycological Association: Scholarship Winners Presentations - Livestream
DESCRIPTION:Our scholarship recipients share their amazing research!2022 Scholarships: Clara Qin\, Martha "Fabiola" Pulido-Chavez\, Jose David Castro Zabarain\, Brandon Stairs\, Felipe Esteban Saez Corte\,...\n______________________________\nThis Event Downloaded From a Helios Calendar Powered Site
LOCATION:Sonoma County Mycological Association -  \, \, CA  
CATEGORIES:BayAreaScience.org Events
PRIORITY:0
TRANSP:TRANSPARENT
END:VEVENT
END:VCALENDAR