BEGIN:VCALENDAR
VERSION:2.0
METHOD:PUBLISH
CALSCALE:GREGORIAN
PRODID:-//Refresh Web Development//Helios Calendar//EN
X-FROM-URL:https://www.bayareascience.org/calendar/index.php?com=details&eID=33643
X-WR-RELCALID:BayAreaScience.org From Ketogenic to Low-Fat Vegan Diets - Livestream 20230221T130000
X-WR-TIMEZONE:America/New_York
X-WR-CALNAME:BayAreaScience.org
BEGIN:VEVENT
URL;VALUE=URI:https://www.bayareascience.org/calendar/index.php?com=detail&eID=33643
DTSTART:20230221T130000
DTEND:20230221T130000
SUMMARY:From Ketogenic to Low-Fat Vegan Diets - Livestream
DESCRIPTION:Two popular diets that would appear to be polar opposites are the low-carb\, high-fat ketogenic diet vs. a low-fat vegan diet. Yet\, if you examine the evidence-based research underlying these dietary...\n______________________________\nThis Event Downloaded From a Helios Calendar Powered Site
LOCATION:Stanford University -  \, \, CA  
CATEGORIES:BayAreaScience.org Events
PRIORITY:0
TRANSP:TRANSPARENT
END:VEVENT
END:VCALENDAR