BEGIN:VCALENDAR
VERSION:2.0
METHOD:PUBLISH
CALSCALE:GREGORIAN
PRODID:-//Refresh Web Development//Helios Calendar//EN
X-FROM-URL:https://www.bayareascience.org/calendar/index.php?com=details&eID=33644
X-WR-RELCALID:BayAreaScience.org ChatGPT and AI + ML Revolution 20230220T173000
X-WR-TIMEZONE:America/New_York
X-WR-CALNAME:BayAreaScience.org
BEGIN:VEVENT
URL;VALUE=URI:https://www.bayareascience.org/calendar/index.php?com=detail&eID=33644
DTSTART:20230220T173000
DTEND:20230220T200000
SUMMARY:ChatGPT and AI + ML Revolution
DESCRIPTION:Panel:Michael Liu\, Co-Founder at Fam CapitalRon Bodkin\, Founder and CEO ChainML\n______________________________\nThis Event Downloaded From a Helios Calendar Powered Site
LOCATION:Celo - 500 Treat Ave \, San Francisco\, CA  94110
CATEGORIES:BayAreaScience.org Events
PRIORITY:0
TRANSP:TRANSPARENT
END:VEVENT
END:VCALENDAR