BEGIN:VCALENDAR
VERSION:2.0
METHOD:PUBLISH
CALSCALE:GREGORIAN
PRODID:-//Refresh Web Development//Helios Calendar//EN
X-FROM-URL:https://www.bayareascience.org/calendar/index.php?com=details&eID=33653
X-WR-RELCALID:BayAreaScience.org  Presidio: Changes Through Time 20231015T110000
X-WR-TIMEZONE:America/New_York
X-WR-CALNAME:BayAreaScience.org
BEGIN:VEVENT
URL;VALUE=URI:https://www.bayareascience.org/calendar/index.php?com=detail&eID=33653
DTSTART:20231015T110000
DTEND:20231015T120000
SUMMARY: Presidio: Changes Through Time
DESCRIPTION:Join the National Park Service and celebrate the 50thÂ Anniversary of the GGNRA!This half-mile\, level walk shows the historical changes to the Presidio\, from the Spanish fort all the way...\n______________________________\nThis Event Downloaded From a Helios Calendar Powered Site
LOCATION:The Presidio - 210 Lincoln Blvd \, San Francisco\, CA  94129
CATEGORIES:BayAreaScience.org Events
PRIORITY:0
TRANSP:TRANSPARENT
END:VEVENT
END:VCALENDAR