BEGIN:VCALENDAR
VERSION:2.0
METHOD:PUBLISH
CALSCALE:GREGORIAN
PRODID:-//Refresh Web Development//Helios Calendar//EN
X-FROM-URL:https://www.bayareascience.org/calendar/index.php?com=details&eID=33657
X-WR-RELCALID:BayAreaScience.org  How our sensory/cognitive biases influence our study of visual modalities: Three tales of failure from the open sea - Livestream 20230510T110000
X-WR-TIMEZONE:America/New_York
X-WR-CALNAME:BayAreaScience.org
BEGIN:VEVENT
URL;VALUE=URI:https://www.bayareascience.org/calendar/index.php?com=detail&eID=33657
DTSTART:20230510T110000
DTEND:20230510T110000
SUMMARY: How our sensory/cognitive biases influence our study of visual modalities: Three tales of failure from the open sea - Livestream
DESCRIPTION:It has long been appreciated (and celebrated) that certain species have sensory capabilities that humans do not share\, for example polarization\, ultraviolet\, and infrared vision. What is less appreciated\,...\n______________________________\nThis Event Downloaded From a Helios Calendar Powered Site
LOCATION:Monterey Bay Aquarium Research Institute -  \, \, CA  
CATEGORIES:BayAreaScience.org Events
PRIORITY:0
TRANSP:TRANSPARENT
END:VEVENT
END:VCALENDAR