BEGIN:VCALENDAR
VERSION:2.0
METHOD:PUBLISH
CALSCALE:GREGORIAN
PRODID:-//Refresh Web Development//Helios Calendar//EN
X-FROM-URL:https://www.bayareascience.org/calendar/index.php?com=details&eID=33658
X-WR-RELCALID:BayAreaScience.org 1.5 C - Methane: the 100x threat 20230316T180000
X-WR-TIMEZONE:America/New_York
X-WR-CALNAME:BayAreaScience.org
BEGIN:VEVENT
URL;VALUE=URI:https://www.bayareascience.org/calendar/index.php?com=detail&eID=33658
DTSTART:20230316T180000
DTEND:20230316T210000
SUMMARY:1.5 C - Methane: the 100x threat
DESCRIPTION:Climate Tech Action Network (CTAN) presents 1.5Â°C\, an ongoing climate technology panel event that will focus on the engineering and scientific challenges facing different verticals of the climate...\n______________________________\nThis Event Downloaded From a Helios Calendar Powered Site
LOCATION:Manny's - 3092 16th St \, San Francisco\, CA  94103
CATEGORIES:BayAreaScience.org Events
PRIORITY:0
TRANSP:TRANSPARENT
END:VEVENT
END:VCALENDAR