BEGIN:VCALENDAR
VERSION:2.0
METHOD:PUBLISH
CALSCALE:GREGORIAN
PRODID:-//Refresh Web Development//Helios Calendar//EN
X-FROM-URL:https://www.bayareascience.org/calendar/index.php?com=details&eID=33659
X-WR-RELCALID:BayAreaScience.org National Geographic Women Explorers celebrate International Womenâ€™s Day 20230308T173000
X-WR-TIMEZONE:America/New_York
X-WR-CALNAME:BayAreaScience.org
BEGIN:VEVENT
URL;VALUE=URI:https://www.bayareascience.org/calendar/index.php?com=detail&eID=33659
DTSTART:20230308T173000
DTEND:20230308T200000
SUMMARY:National Geographic Women Explorers celebrate International Womenâ€™s Day
DESCRIPTION:On International Womenâ€™s Day\, join five inspiring women explorers as they share their work to understand rainforest conservation\, citizen science\, ethnobotany and the environmental impacts...\n______________________________\nThis Event Downloaded From a Helios Calendar Powered Site
LOCATION:CANOPY Jackson Square - 595 Pacific Ave 4th Floor\, San Francisco\, CA  94133
CATEGORIES:BayAreaScience.org Events
PRIORITY:0
TRANSP:TRANSPARENT
END:VEVENT
END:VCALENDAR