BEGIN:VCALENDAR
VERSION:2.0
METHOD:PUBLISH
CALSCALE:GREGORIAN
PRODID:-//Refresh Web Development//Helios Calendar//EN
X-FROM-URL:https://www.bayareascience.org/calendar/index.php?com=details&eID=33660
X-WR-RELCALID:BayAreaScience.org How to Speak Whale, A Voyage Into the Future of Animal Communication - Livestream 20230326T113000
X-WR-TIMEZONE:America/New_York
X-WR-CALNAME:BayAreaScience.org
BEGIN:VEVENT
URL;VALUE=URI:https://www.bayareascience.org/calendar/index.php?com=detail&eID=33660
DTSTART:20230326T113000
DTEND:20230326T113000
SUMMARY:How to Speak Whale\, A Voyage Into the Future of Animal Communication - Livestream
DESCRIPTION:What if humans and other animals could speak to one another? Author and wildlife filmmaker Tom Mustill reveals how a close encounter with a humpback whale off the...\n______________________________\nThis Event Downloaded From a Helios Calendar Powered Site
LOCATION:American Cetacean Society -  \, \, CA  
CATEGORIES:BayAreaScience.org Events
PRIORITY:0
TRANSP:TRANSPARENT
END:VEVENT
END:VCALENDAR