BEGIN:VCALENDAR
VERSION:2.0
METHOD:PUBLISH
CALSCALE:GREGORIAN
PRODID:-//Refresh Web Development//Helios Calendar//EN
X-FROM-URL:https://www.bayareascience.org/calendar/index.php?com=details&eID=33661
X-WR-RELCALID:BayAreaScience.org Xylem Global Student Innovation Challenge  20230301T080000
X-WR-TIMEZONE:America/New_York
X-WR-CALNAME:BayAreaScience.org
BEGIN:VEVENT
URL;VALUE=URI:https://www.bayareascience.org/calendar/index.php?com=detail&eID=33661
DTSTART:20230301T080000
DTEND:20230301T220000
SUMMARY:Xylem Global Student Innovation Challenge 
DESCRIPTION:Join us in solving water challenges to expand water access and resilience for all. By competing in this virtual hackathon\, you will have the opportunity to:\n______________________________\nThis Event Downloaded From a Helios Calendar Powered Site
LOCATION:Xylem Innovation Challenge -  \, \, CA  
CATEGORIES:BayAreaScience.org Events
PRIORITY:0
TRANSP:TRANSPARENT
END:VEVENT
END:VCALENDAR