BEGIN:VCALENDAR
VERSION:2.0
METHOD:PUBLISH
CALSCALE:GREGORIAN
PRODID:-//Refresh Web Development//Helios Calendar//EN
X-FROM-URL:https://www.bayareascience.org/calendar/index.php?com=details&eID=33663
X-WR-RELCALID:BayAreaScience.org Stewardship Saturday: Restoring Wetlands for Ocean Health 20230325T090000
X-WR-TIMEZONE:America/New_York
X-WR-CALNAME:BayAreaScience.org
BEGIN:VEVENT
URL;VALUE=URI:https://www.bayareascience.org/calendar/index.php?com=detail&eID=33663
DTSTART:20230325T090000
DTEND:20230325T120000
SUMMARY:Stewardship Saturday: Restoring Wetlands for Ocean Health
DESCRIPTION:We are excited to invite you to engage with nature and assist in a Watsonville Wetlands Watch restoration project.After some time working as a team to improve the health of the slough\, you...\n______________________________\nThis Event Downloaded From a Helios Calendar Powered Site
LOCATION:Watsonville Wetlands Watch - 500 Harkins Slough Road at Lee Road\, Watsonville\, CA  94067
CATEGORIES:BayAreaScience.org Events
PRIORITY:0
TRANSP:TRANSPARENT
END:VEVENT
END:VCALENDAR