BEGIN:VCALENDAR
VERSION:2.0
METHOD:PUBLISH
CALSCALE:GREGORIAN
PRODID:-//Refresh Web Development//Helios Calendar//EN
X-FROM-URL:https://www.bayareascience.org/calendar/index.php?com=details&eID=33664
X-WR-RELCALID:BayAreaScience.org The Insect Crisis is a Human Crisis 20230504T180000
X-WR-TIMEZONE:America/New_York
X-WR-CALNAME:BayAreaScience.org
BEGIN:VEVENT
URL;VALUE=URI:https://www.bayareascience.org/calendar/index.php?com=detail&eID=33664
DTSTART:20230504T180000
DTEND:20230504T193000
SUMMARY:The Insect Crisis is a Human Crisis
DESCRIPTION:Insects can seem to be everywhere\, all at once\, sometimes to an annoying extent. Three out of four every four known animal species on Earth are insects\, after all. But these dazzlingly adept creatures\,...\n______________________________\nThis Event Downloaded From a Helios Calendar Powered Site
LOCATION:David Brower Center - 2150 Allston Way \, Berkeley\, CA  94704
CATEGORIES:BayAreaScience.org Events
PRIORITY:0
TRANSP:TRANSPARENT
END:VEVENT
END:VCALENDAR