BEGIN:VCALENDAR
VERSION:2.0
METHOD:PUBLISH
CALSCALE:GREGORIAN
PRODID:-//Refresh Web Development//Helios Calendar//EN
X-FROM-URL:https://www.bayareascience.org/calendar/index.php?com=details&eID=33666
X-WR-RELCALID:BayAreaScience.org From Pupils to Space Telescopes: What Your Eyes Can Teach You About How Telescopes Work - Livestream 20230302T160000
X-WR-TIMEZONE:America/New_York
X-WR-CALNAME:BayAreaScience.org
BEGIN:VEVENT
URL;VALUE=URI:https://www.bayareascience.org/calendar/index.php?com=detail&eID=33666
DTSTART:20230302T160000
DTEND:20230302T170000
SUMMARY:From Pupils to Space Telescopes: What Your Eyes Can Teach You About How Telescopes Work - Livestream
DESCRIPTION:In this 1-hour workshop for middle school teachers\, we'll explore how your eyes form images\, and how your pupil and iris are key to understanding how all optical tools work\, even the largest space-based...\n______________________________\nThis Event Downloaded From a Helios Calendar Powered Site
LOCATION:Astronomical Society of the Pacific -  \, \, CA  
CATEGORIES:BayAreaScience.org Events
PRIORITY:0
TRANSP:TRANSPARENT
END:VEVENT
END:VCALENDAR