BEGIN:VCALENDAR
VERSION:2.0
METHOD:PUBLISH
CALSCALE:GREGORIAN
PRODID:-//Refresh Web Development//Helios Calendar//EN
X-FROM-URL:https://www.bayareascience.org/calendar/index.php?com=details&eID=33667
X-WR-RELCALID:BayAreaScience.org Programmable adiabatic demagnetization: preparing low energy states by simulated cooling 20230313T143000
X-WR-TIMEZONE:America/New_York
X-WR-CALNAME:BayAreaScience.org
BEGIN:VEVENT
URL;VALUE=URI:https://www.bayareascience.org/calendar/index.php?com=detail&eID=33667
DTSTART:20230313T143000
DTEND:20230313T153000
SUMMARY:Programmable adiabatic demagnetization: preparing low energy states by simulated cooling
DESCRIPTION:The ability to prepare ground states of many-body Hamiltonians on quantum devices is of central importance for a variety of tasks and applications in quantum computation and quantum simulation....\n______________________________\nThis Event Downloaded From a Helios Calendar Powered Site
LOCATION:Physics North - UC Berkeley Room 3\, Berkeley\, CA  94720
CATEGORIES:BayAreaScience.org Events
PRIORITY:0
TRANSP:TRANSPARENT
END:VEVENT
END:VCALENDAR