BEGIN:VCALENDAR
VERSION:2.0
METHOD:PUBLISH
CALSCALE:GREGORIAN
PRODID:-//Refresh Web Development//Helios Calendar//EN
X-FROM-URL:https://www.bayareascience.org/calendar/index.php?com=details&eID=33668
X-WR-RELCALID:BayAreaScience.org Wellness in Tech: Improving Culture and Mental Health 20230301T180000
X-WR-TIMEZONE:America/New_York
X-WR-CALNAME:BayAreaScience.org
BEGIN:VEVENT
URL;VALUE=URI:https://www.bayareascience.org/calendar/index.php?com=detail&eID=33668
DTSTART:20230301T180000
DTEND:20230301T203000
SUMMARY:Wellness in Tech: Improving Culture and Mental Health
DESCRIPTION:Itâ€™s no secret that two out of five workers in tech consider themselves at high risk of burnout\, with 42% of them considering a career change in the next six months. Poor representation\,...\n______________________________\nThis Event Downloaded From a Helios Calendar Powered Site
LOCATION:Lattice - 360 Spear St \, San Francisco\, CA  94105
CATEGORIES:BayAreaScience.org Events
PRIORITY:0
TRANSP:TRANSPARENT
END:VEVENT
END:VCALENDAR