BEGIN:VCALENDAR
VERSION:2.0
METHOD:PUBLISH
CALSCALE:GREGORIAN
PRODID:-//Refresh Web Development//Helios Calendar//EN
X-FROM-URL:https://www.bayareascience.org/calendar/index.php?com=details&eID=33669
X-WR-RELCALID:BayAreaScience.org Womxn in Tech Panel 20230304T110000
X-WR-TIMEZONE:America/New_York
X-WR-CALNAME:BayAreaScience.org
BEGIN:VEVENT
URL;VALUE=URI:https://www.bayareascience.org/calendar/index.php?com=detail&eID=33669
DTSTART:20230304T110000
DTEND:20230304T130000
SUMMARY:Womxn in Tech Panel
DESCRIPTION:Listen to a diverse panel of womxn-identifying speakers & learn how they blazed their paths in tech. Followed by discussion groups for closer conversation.Panelists include:Radhika...\n______________________________\nThis Event Downloaded From a Helios Calendar Powered Site
LOCATION:Soda Hall - UC Berkeley Wozniak Lounge\, Berkeley\, CA  94720
CATEGORIES:BayAreaScience.org Events
PRIORITY:0
TRANSP:TRANSPARENT
END:VEVENT
END:VCALENDAR