BEGIN:VCALENDAR
VERSION:2.0
METHOD:PUBLISH
CALSCALE:GREGORIAN
PRODID:-//Refresh Web Development//Helios Calendar//EN
X-FROM-URL:https://www.bayareascience.org/calendar/index.php?com=details&eID=33676
X-WR-RELCALID:BayAreaScience.org  Stewardship Saturday: Exploring Land and Sea (for High-Schoolers)  20230429T130000
X-WR-TIMEZONE:America/New_York
X-WR-CALNAME:BayAreaScience.org
BEGIN:VEVENT
URL;VALUE=URI:https://www.bayareascience.org/calendar/index.php?com=detail&eID=33676
DTSTART:20230429T130000
DTEND:20230429T150000
SUMMARY: Stewardship Saturday: Exploring Land and Sea (for High-Schoolers) 
DESCRIPTION:we are excited to invite you to learn more about the terrestrial and aquatic animals The Marine Mammal Center and Lindsay Wildlife Experience care for! Through this event you willÂ discover...\n______________________________\nThis Event Downloaded From a Helios Calendar Powered Site
LOCATION:Lafayette Library and Learning Center - Community Hall Building 3491 Mt. Diablo Blvd\, Lafayette\, CA  94549
CATEGORIES:BayAreaScience.org Events
PRIORITY:0
TRANSP:TRANSPARENT
END:VEVENT
END:VCALENDAR