BEGIN:VCALENDAR
VERSION:2.0
METHOD:PUBLISH
CALSCALE:GREGORIAN
PRODID:-//Refresh Web Development//Helios Calendar//EN
X-FROM-URL:https://www.bayareascience.org/calendar/index.php?com=details&eID=33679
X-WR-RELCALID:BayAreaScience.org Wonderfest: 'Linoleum' 20230328T170000
X-WR-TIMEZONE:America/New_York
X-WR-CALNAME:BayAreaScience.org
BEGIN:VEVENT
URL;VALUE=URI:https://www.bayareascience.org/calendar/index.php?com=detail&eID=33679
DTSTART:20230328T170000
DTEND:20230328T190000
SUMMARY:Wonderfest: 'Linoleum'
DESCRIPTION:Wonderfest celebrates the 10th annual National Evening of Science on Screen with the new sci-fi comedy-drama LINOLEUM and with the expert commentary of planetary scientist Dr. Pascal Lee. LINOLEUM...\n______________________________\nThis Event Downloaded From a Helios Calendar Powered Site
LOCATION:Cameo Cinema - 1340 Main St \, St. Helena\, CA  94574
CATEGORIES:BayAreaScience.org Events
PRIORITY:0
TRANSP:TRANSPARENT
END:VEVENT
END:VCALENDAR