BEGIN:VCALENDAR
VERSION:2.0
METHOD:PUBLISH
CALSCALE:GREGORIAN
PRODID:-//Refresh Web Development//Helios Calendar//EN
X-FROM-URL:https://www.bayareascience.org/calendar/index.php?com=details&eID=33681
X-WR-RELCALID:BayAreaScience.org A Century of Better Sampling: Ocean Data Collection from Boundary Layer to Basin Scales 20230227T123000
X-WR-TIMEZONE:America/New_York
X-WR-CALNAME:BayAreaScience.org
BEGIN:VEVENT
URL;VALUE=URI:https://www.bayareascience.org/calendar/index.php?com=detail&eID=33681
DTSTART:20230227T123000
DTEND:20230227T133000
SUMMARY:A Century of Better Sampling: Ocean Data Collection from Boundary Layer to Basin Scales
DESCRIPTION:Oceanographer Walter Munk famously declared the first century of oceanography â€œA century of under sampling.â€ And while ocean data collection is still a real pain\, I hope\, in this talk\,...\n______________________________\nThis Event Downloaded From a Helios Calendar Powered Site
LOCATION:Environment and Energy Building (Y2E2) - Stanford University Room 111\, Stanford\, CA  94305
CATEGORIES:BayAreaScience.org Events
PRIORITY:0
TRANSP:TRANSPARENT
END:VEVENT
END:VCALENDAR