BEGIN:VCALENDAR
VERSION:2.0
METHOD:PUBLISH
CALSCALE:GREGORIAN
PRODID:-//Refresh Web Development//Helios Calendar//EN
X-FROM-URL:https://www.bayareascience.org/calendar/index.php?com=details&eID=33682
X-WR-RELCALID:BayAreaScience.org Managing forests for wood, wildfire, and carbon in California and beyond 20230301T160000
X-WR-TIMEZONE:America/New_York
X-WR-CALNAME:BayAreaScience.org
BEGIN:VEVENT
URL;VALUE=URI:https://www.bayareascience.org/calendar/index.php?com=detail&eID=33682
DTSTART:20230301T160000
DTEND:20230301T173000
SUMMARY:Managing forests for wood\, wildfire\, and carbon in California and beyond
DESCRIPTION:Natural carbon sinks can help mitigate climate change\, but climate risks - like increased wildfire - threaten forests' capacity to store carbon. California has recently set ambitious forest management...\n______________________________\nThis Event Downloaded From a Helios Calendar Powered Site
LOCATION:Giannini Hall - UC Berkeley Room 141\, Berkeley\, CA  94720
CATEGORIES:BayAreaScience.org Events
PRIORITY:0
TRANSP:TRANSPARENT
END:VEVENT
END:VCALENDAR