BEGIN:VCALENDAR
VERSION:2.0
METHOD:PUBLISH
CALSCALE:GREGORIAN
PRODID:-//Refresh Web Development//Helios Calendar//EN
X-FROM-URL:https://www.bayareascience.org/calendar/index.php?com=details&eID=33683
X-WR-RELCALID:BayAreaScience.org Journey to Mars: Fireside Chat with Roberto Carlino 20230228T183000
X-WR-TIMEZONE:America/New_York
X-WR-CALNAME:BayAreaScience.org
BEGIN:VEVENT
URL;VALUE=URI:https://www.bayareascience.org/calendar/index.php?com=detail&eID=33683
DTSTART:20230228T183000
DTEND:20230228T213000
SUMMARY:Journey to Mars: Fireside Chat with Roberto Carlino
DESCRIPTION:The Human Exploration Research Analog (HERA) mission is a ground-based astronaut analog simulation run by the NASA Human Research Program to study and evaluate impacts on the crew...\n______________________________\nThis Event Downloaded From a Helios Calendar Powered Site
LOCATION:Italian Innovation and Culture Hub INNOV.IT - 710 Sansome St \, San Francisco\, CA  94111
CATEGORIES:BayAreaScience.org Events
PRIORITY:0
TRANSP:TRANSPARENT
END:VEVENT
END:VCALENDAR