BEGIN:VCALENDAR
VERSION:2.0
METHOD:PUBLISH
CALSCALE:GREGORIAN
PRODID:-//Refresh Web Development//Helios Calendar//EN
X-FROM-URL:https://www.bayareascience.org/calendar/index.php?com=details&eID=33687
X-WR-RELCALID:BayAreaScience.org  Programming with Rust  - Livestream 20230307T180000
X-WR-TIMEZONE:America/New_York
X-WR-CALNAME:BayAreaScience.org
BEGIN:VEVENT
URL;VALUE=URI:https://www.bayareascience.org/calendar/index.php?com=detail&eID=33687
DTSTART:20230307T180000
DTEND:20230307T184000
SUMMARY: Programming with Rust  - Livestream
DESCRIPTION:Join us in learning more about Rust\, one of the fastest-growing programming languages\, which continues to be ranked the most-loved language by its users. Its user base\, aka â€œRustaceans\,â€...\n______________________________\nThis Event Downloaded From a Helios Calendar Powered Site
LOCATION:UC Santa Cruz Silicon Valley Extension -  \, \, CA  
CATEGORIES:BayAreaScience.org Events
PRIORITY:0
TRANSP:TRANSPARENT
END:VEVENT
END:VCALENDAR