BEGIN:VCALENDAR
VERSION:2.0
METHOD:PUBLISH
CALSCALE:GREGORIAN
PRODID:-//Refresh Web Development//Helios Calendar//EN
X-FROM-URL:https://www.bayareascience.org/calendar/index.php?com=details&eID=33689
X-WR-RELCALID:BayAreaScience.org  EXPO: Environmental Careers for Youth 20230309T170000
X-WR-TIMEZONE:America/New_York
X-WR-CALNAME:BayAreaScience.org
BEGIN:VEVENT
URL;VALUE=URI:https://www.bayareascience.org/calendar/index.php?com=detail&eID=33689
DTSTART:20230309T170000
DTEND:20230309T190000
SUMMARY: EXPO: Environmental Careers for Youth
DESCRIPTION:Sonoma Environmental Education Collaborative (SEEC) presents: Environmental Careers for YouthProgram includes: Speakers + Job Fair + Resume HelpAge: Highschool and upPanelists...\n______________________________\nThis Event Downloaded From a Helios Calendar Powered Site
LOCATION:Advanced Energy Center - 741 4th St \, Santa Rosa\, CA  95404
CATEGORIES:BayAreaScience.org Events
PRIORITY:0
TRANSP:TRANSPARENT
END:VEVENT
END:VCALENDAR