BEGIN:VCALENDAR
VERSION:2.0
METHOD:PUBLISH
CALSCALE:GREGORIAN
PRODID:-//Refresh Web Development//Helios Calendar//EN
X-FROM-URL:https://www.bayareascience.org/calendar/index.php?com=details&eID=33690
X-WR-RELCALID:BayAreaScience.org Science on Tap: Science from 20 Feet Up 20230330T173000
X-WR-TIMEZONE:America/New_York
X-WR-CALNAME:BayAreaScience.org
BEGIN:VEVENT
URL;VALUE=URI:https://www.bayareascience.org/calendar/index.php?com=detail&eID=33690
DTSTART:20230330T173000
DTEND:20230330T193000
SUMMARY:Science on Tap: Science from 20 Feet Up
DESCRIPTION:Join the Museum for a night of fun and science as we host Doctors Mara Orescanin and Stu Weiss with beverages from Dust Bowl Brewing Co! Mara and Stu will be discussing the work they do to help...\n______________________________\nThis Event Downloaded From a Helios Calendar Powered Site
LOCATION:Pacific Grove Museum of Natural History - 165 Forest Ave \, Pacific Grove\, CA  93950
CATEGORIES:BayAreaScience.org Events
PRIORITY:0
TRANSP:TRANSPARENT
END:VEVENT
END:VCALENDAR