BEGIN:VCALENDAR
VERSION:2.0
METHOD:PUBLISH
CALSCALE:GREGORIAN
PRODID:-//Refresh Web Development//Helios Calendar//EN
X-FROM-URL:https://www.bayareascience.org/calendar/index.php?com=details&eID=33698
X-WR-RELCALID:BayAreaScience.org Who makes the Earth habitable? From a metaphysics of production to a metaphysics of alliance 20230303T130000
X-WR-TIMEZONE:America/New_York
X-WR-CALNAME:BayAreaScience.org
BEGIN:VEVENT
URL;VALUE=URI:https://www.bayareascience.org/calendar/index.php?com=detail&eID=33698
DTSTART:20230303T130000
DTEND:20230303T150000
SUMMARY:Who makes the Earth habitable? From a metaphysics of production to a metaphysics of alliance
DESCRIPTION:Among the founding myths of modern Western cosmology\, there is one that would almost go unnoticed\, so much has it shaped our ways of thinking and acting. It is the dominant philosophical belief...\n______________________________\nThis Event Downloaded From a Helios Calendar Powered Site
LOCATION:Dwinelle Hall - UC Berkeley Room 3335\, Berkeley\, CA  94720
CATEGORIES:BayAreaScience.org Events
PRIORITY:0
TRANSP:TRANSPARENT
END:VEVENT
END:VCALENDAR