BEGIN:VCALENDAR
VERSION:2.0
METHOD:PUBLISH
CALSCALE:GREGORIAN
PRODID:-//Refresh Web Development//Helios Calendar//EN
X-FROM-URL:https://www.bayareascience.org/calendar/index.php?com=details&eID=33700
X-WR-RELCALID:BayAreaScience.org Chat-GPT, LLMs and the Future of Finance and Accounting Panel 20230307T173000
X-WR-TIMEZONE:America/New_York
X-WR-CALNAME:BayAreaScience.org
BEGIN:VEVENT
URL;VALUE=URI:https://www.bayareascience.org/calendar/index.php?com=detail&eID=33700
DTSTART:20230307T173000
DTEND:20230307T200000
SUMMARY:Chat-GPT\, LLMs and the Future of Finance and Accounting Panel
DESCRIPTION:Chat-GPT has taken the world by a storm\, with an estimated 75 million users already\, but this is just the beginning for Large Language Models (LLMs). Much has been written about the applications...\n______________________________\nThis Event Downloaded From a Helios Calendar Powered Site
LOCATION:Decker Communications - 575 Market St 4th Floor\, San Francisco\, CA  94105
CATEGORIES:BayAreaScience.org Events
PRIORITY:0
TRANSP:TRANSPARENT
END:VEVENT
END:VCALENDAR