BEGIN:VCALENDAR
VERSION:2.0
METHOD:PUBLISH
CALSCALE:GREGORIAN
PRODID:-//Refresh Web Development//Helios Calendar//EN
X-FROM-URL:https://www.bayareascience.org/calendar/index.php?com=details&eID=33703
X-WR-RELCALID:BayAreaScience.org Rebooting the Human Genome: New Variant Discovery in the Era of Complete Genomes 20230308T170000
X-WR-TIMEZONE:America/New_York
X-WR-CALNAME:BayAreaScience.org
BEGIN:VEVENT
URL;VALUE=URI:https://www.bayareascience.org/calendar/index.php?com=detail&eID=33703
DTSTART:20230308T170000
DTEND:20230308T190000
SUMMARY:Rebooting the Human Genome: New Variant Discovery in the Era of Complete Genomes
DESCRIPTION:Genomic scientist Karen Miga\, assistant professor of biomolecular engineering at UC Santa Cruz\, was named one of the 100...\n______________________________\nThis Event Downloaded From a Helios Calendar Powered Site
LOCATION:UC Santa Cruz Silicon Valley Campus - 3175 Bowers Ave \, Santa Clara\, CA  95054
CATEGORIES:BayAreaScience.org Events
PRIORITY:0
TRANSP:TRANSPARENT
END:VEVENT
END:VCALENDAR