BEGIN:VCALENDAR
VERSION:2.0
METHOD:PUBLISH
CALSCALE:GREGORIAN
PRODID:-//Refresh Web Development//Helios Calendar//EN
X-FROM-URL:https://www.bayareascience.org/calendar/index.php?com=details&eID=33706
X-WR-RELCALID:BayAreaScience.org Galaxies in the Reionization Ear: New Insiht from Early JWST and Ground-Based Telescopes 20230303T123000
X-WR-TIMEZONE:America/New_York
X-WR-CALNAME:BayAreaScience.org
BEGIN:VEVENT
URL;VALUE=URI:https://www.bayareascience.org/calendar/index.php?com=detail&eID=33706
DTSTART:20230303T123000
DTEND:20230303T133000
SUMMARY:Galaxies in the Reionization Ear: New Insiht from Early JWST and Ground-Based Telescopes
DESCRIPTION:Over the past few months\, deep infrared images and spectra from JWST have pushed the cosmic frontier back to just 300 million years after the Big Bang\, delivering the first large sample of galaxies...\n______________________________\nThis Event Downloaded From a Helios Calendar Powered Site
LOCATION:Campbell Hall\, Room 131 - UC Berkeley \, Berkeley\, CA  94720
CATEGORIES:BayAreaScience.org Events
PRIORITY:0
TRANSP:TRANSPARENT
END:VEVENT
END:VCALENDAR