BEGIN:VCALENDAR
VERSION:2.0
METHOD:PUBLISH
CALSCALE:GREGORIAN
PRODID:-//Refresh Web Development//Helios Calendar//EN
X-FROM-URL:https://www.bayareascience.org/calendar/index.php?com=details&eID=33707
X-WR-RELCALID:BayAreaScience.org STEM Frenzy Festival 20230401T100000
X-WR-TIMEZONE:America/New_York
X-WR-CALNAME:BayAreaScience.org
BEGIN:VEVENT
URL;VALUE=URI:https://www.bayareascience.org/calendar/index.php?com=detail&eID=33707
DTSTART:20230401T100000
DTEND:20230401T150000
SUMMARY:STEM Frenzy Festival
DESCRIPTION:The STEM Frenzy festival is a day where we bring the community of all ages together to celebrate and explore the wonders of Science\, Technology\, Engineering\, Math\, and Art.Enjoy 30+ engaging...\n______________________________\nThis Event Downloaded From a Helios Calendar Powered Site
LOCATION:Chase Center - 1 Warriors Way \, San Francisco\, CA  94158
CATEGORIES:BayAreaScience.org Events
PRIORITY:0
TRANSP:TRANSPARENT
END:VEVENT
END:VCALENDAR