BEGIN:VCALENDAR
VERSION:2.0
METHOD:PUBLISH
CALSCALE:GREGORIAN
PRODID:-//Refresh Web Development//Helios Calendar//EN
X-FROM-URL:https://www.bayareascience.org/calendar/index.php?com=details&eID=33708
X-WR-RELCALID:BayAreaScience.org DÃ¬a de la Ciencia  20230401T090000
X-WR-TIMEZONE:America/New_York
X-WR-CALNAME:BayAreaScience.org
BEGIN:VEVENT
URL;VALUE=URI:https://www.bayareascience.org/calendar/index.php?com=detail&eID=33708
DTSTART:20230401T090000
DTEND:20230401T130000
SUMMARY:DÃ¬a de la Ciencia 
DESCRIPTION:This is a community event for the Spanish-speaking public to participate in hands-on activities led by local scientists!Â This event will include:Â Hands-on exhibits &...\n______________________________\nThis Event Downloaded From a Helios Calendar Powered Site
LOCATION:Consulate General of Mexico - 532 Folsom St \, San Francisco\, CA  94105
CATEGORIES:BayAreaScience.org Events
PRIORITY:0
TRANSP:TRANSPARENT
END:VEVENT
END:VCALENDAR