BEGIN:VCALENDAR
VERSION:2.0
METHOD:PUBLISH
CALSCALE:GREGORIAN
PRODID:-//Refresh Web Development//Helios Calendar//EN
X-FROM-URL:https://www.bayareascience.org/calendar/index.php?com=details&eID=33716
X-WR-RELCALID:BayAreaScience.org A Star is Born 20230309T110000
X-WR-TIMEZONE:America/New_York
X-WR-CALNAME:BayAreaScience.org
BEGIN:VEVENT
URL;VALUE=URI:https://www.bayareascience.org/calendar/index.php?com=detail&eID=33716
DTSTART:20230309T110000
DTEND:20230309T120000
SUMMARY:A Star is Born
DESCRIPTION:The birthÂ of stars is one of the most complex problems challenging modern astrophysics. Understanding their origins is of fundamental importance to many areas of astronomy\, from exoplanet studies...\n______________________________\nThis Event Downloaded From a Helios Calendar Powered Site
LOCATION:Kavli Institute Astrophysics Colloquium - Physics and Astrophysics Building Room 102/103 452 Lomita Mall\, Stanford\, CA  94305
CATEGORIES:BayAreaScience.org Events
PRIORITY:0
TRANSP:TRANSPARENT
END:VEVENT
END:VCALENDAR