BEGIN:VCALENDAR
VERSION:2.0
METHOD:PUBLISH
CALSCALE:GREGORIAN
PRODID:-//Refresh Web Development//Helios Calendar//EN
X-FROM-URL:https://www.bayareascience.org/calendar/index.php?com=details&eID=33723
X-WR-RELCALID:BayAreaScience.org Women in Archaeology: A Conversation with Members of the Society for California Archaeology 20230319T130000
X-WR-TIMEZONE:America/New_York
X-WR-CALNAME:BayAreaScience.org
BEGIN:VEVENT
URL;VALUE=URI:https://www.bayareascience.org/calendar/index.php?com=detail&eID=33723
DTSTART:20230319T130000
DTEND:20230319T143000
SUMMARY:Women in Archaeology: A Conversation with Members of the Society for California Archaeology
DESCRIPTION:To celebrate Womenâ€™s History Month\, weâ€™re delighted to host Gregg Castro (T'rowt'raahl Salinan\, Rumsen\, and Ramaytush Ohlone)\, the Native American Programs Committee Chair for the...\n______________________________\nThis Event Downloaded From a Helios Calendar Powered Site
LOCATION:ExplOratorium - Pier 15 (Embarcadero at Green Street)  \, San Francisco\, CA USA 94111
CATEGORIES:BayAreaScience.org Events
PRIORITY:0
TRANSP:TRANSPARENT
END:VEVENT
END:VCALENDAR