BEGIN:VCALENDAR
VERSION:2.0
METHOD:PUBLISH
CALSCALE:GREGORIAN
PRODID:-//Refresh Web Development//Helios Calendar//EN
X-FROM-URL:https://www.bayareascience.org/calendar/index.php?com=details&eID=33727
X-WR-RELCALID:BayAreaScience.org BioBlitz at Kelley Park with Keep Coyote Creek Beautiful and Santa Clara Valley Audubon Society 20230318T090000
X-WR-TIMEZONE:America/New_York
X-WR-CALNAME:BayAreaScience.org
BEGIN:VEVENT
URL;VALUE=URI:https://www.bayareascience.org/calendar/index.php?com=detail&eID=33727
DTSTART:20230318T090000
DTEND:20230318T110000
SUMMARY:BioBlitz at Kelley Park with Keep Coyote Creek Beautiful and Santa Clara Valley Audubon Society
DESCRIPTION:Join us in exploring Kelley Park with Keep Coyote Creek Beautiful! Weâ€™ll be looking for birds\, bugs\, and anything else...\n______________________________\nThis Event Downloaded From a Helios Calendar Powered Site
LOCATION:Kelley Park - 1300 Senter Rd \, San Jose\, CA  95112
CATEGORIES:BayAreaScience.org Events
PRIORITY:0
TRANSP:TRANSPARENT
END:VEVENT
END:VCALENDAR