BEGIN:VCALENDAR
VERSION:2.0
METHOD:PUBLISH
CALSCALE:GREGORIAN
PRODID:-//Refresh Web Development//Helios Calendar//EN
X-FROM-URL:https://www.bayareascience.org/calendar/index.php?com=details&eID=33729
X-WR-RELCALID:BayAreaScience.org Following the water in the Sacramento-San Joaquin Delta Watershed: Where the water goes, controversy follows 20230306T123000
X-WR-TIMEZONE:America/New_York
X-WR-CALNAME:BayAreaScience.org
BEGIN:VEVENT
URL;VALUE=URI:https://www.bayareascience.org/calendar/index.php?com=detail&eID=33729
DTSTART:20230306T123000
DTEND:20230306T133000
SUMMARY:Following the water in the Sacramento-San Joaquin Delta Watershed: Where the water goes\, controversy follows
DESCRIPTION:The Sacramento-San Joaquin Delta has been the focus of water woes and wars in California for over 100 years. The conflict involves upstream water uses\, in-Delta water uses\, Delta water exports\,...\n______________________________\nThis Event Downloaded From a Helios Calendar Powered Site
LOCATION:Environment and Energy Building (Y2E2) - Stanford University Room 111\, Stanford\, CA  94305
CATEGORIES:BayAreaScience.org Events
PRIORITY:0
TRANSP:TRANSPARENT
END:VEVENT
END:VCALENDAR