BEGIN:VCALENDAR
VERSION:2.0
METHOD:PUBLISH
CALSCALE:GREGORIAN
PRODID:-//Refresh Web Development//Helios Calendar//EN
X-FROM-URL:https://www.bayareascience.org/calendar/index.php?com=details&eID=33732
X-WR-RELCALID:BayAreaScience.org Response of Weyl fermions - topological protection, fragility and cooperation 20230417T143000
X-WR-TIMEZONE:America/New_York
X-WR-CALNAME:BayAreaScience.org
BEGIN:VEVENT
URL;VALUE=URI:https://www.bayareascience.org/calendar/index.php?com=detail&eID=33732
DTSTART:20230417T143000
DTEND:20230417T153000
SUMMARY:Response of Weyl fermions - topological protection\, fragility and cooperation
DESCRIPTION:Topological electronic materials host exotic boundary modes\, that cannot be realized as standalone states\, but only at the boundaries of a topologically classified bulk. Topological semimetals\,...\n______________________________\nThis Event Downloaded From a Helios Calendar Powered Site
LOCATION:Physics North - UC Berkeley Room 3\, Berkeley\, CA  94720
CATEGORIES:BayAreaScience.org Events
PRIORITY:0
TRANSP:TRANSPARENT
END:VEVENT
END:VCALENDAR