BEGIN:VCALENDAR
VERSION:2.0
METHOD:PUBLISH
CALSCALE:GREGORIAN
PRODID:-//Refresh Web Development//Helios Calendar//EN
X-FROM-URL:https://www.bayareascience.org/calendar/index.php?com=details&eID=33733
X-WR-RELCALID:BayAreaScience.org A brain-inspired electronic learning machine 20230424T143000
X-WR-TIMEZONE:America/New_York
X-WR-CALNAME:BayAreaScience.org
BEGIN:VEVENT
URL;VALUE=URI:https://www.bayareascience.org/calendar/index.php?com=detail&eID=33733
DTSTART:20230424T143000
DTEND:20230424T153000
SUMMARY:A brain-inspired electronic learning machine
DESCRIPTION:Contrastive learning algorithms have recently been proposed for training physical networks such as mechanical\, flow and electrical networks to perform arbitrarily complex machine learning tasks...\n______________________________\nThis Event Downloaded From a Helios Calendar Powered Site
LOCATION:Physics North - UC Berkeley Room 3\, Berkeley\, CA  94720
CATEGORIES:BayAreaScience.org Events
PRIORITY:0
TRANSP:TRANSPARENT
END:VEVENT
END:VCALENDAR