BEGIN:VCALENDAR
VERSION:2.0
METHOD:PUBLISH
CALSCALE:GREGORIAN
PRODID:-//Refresh Web Development//Helios Calendar//EN
X-FROM-URL:https://www.bayareascience.org/calendar/index.php?com=details&eID=33734
X-WR-RELCALID:BayAreaScience.org A Tale of Two Continents - Livestream 20230418T190000
X-WR-TIMEZONE:America/New_York
X-WR-CALNAME:BayAreaScience.org
BEGIN:VEVENT
URL;VALUE=URI:https://www.bayareascience.org/calendar/index.php?com=detail&eID=33734
DTSTART:20230418T190000
DTEND:20230418T210000
SUMMARY:A Tale of Two Continents - Livestream
DESCRIPTION:Wendy will talk about the hunting and eating traditions...\n______________________________\nThis Event Downloaded From a Helios Calendar Powered Site
LOCATION:Mycological Society of San Francisco -  \, \, CA  
CATEGORIES:BayAreaScience.org Events
PRIORITY:0
TRANSP:TRANSPARENT
END:VEVENT
END:VCALENDAR